BEGIN:VCALENDAR
VERSION:2.0
PRODID:-//ChamberMaster//Event Calendar 2.0//EN
METHOD:PUBLISH
X-PUBLISHED-TTL:P3D
REFRESH-INTERVAL:P3D
CALSCALE:GREGORIAN
BEGIN:VEVENT
DTSTART:20260602T210000Z
DTEND:20260603T000000Z
X-MICROSOFT-CDO-ALLDAYEVENT:FALSE
SUMMARY:Summer Splash 2026
DESCRIPTION:Promote Your Business to Thousands! \n\nBe a part of the 2026's Summer Splash Business Expo\n\n*Public Invited\n\n*Free Ample parking
X-ALT-DESC;FMTTYPE=text/html:<span style="color:#0000FF\;"><span style="font-size:14px\;"><span style="font-family:times new roman\;"><span style="font-size:20px\;">Promote Your Business to Thousands!&nbsp\;</span><br />\n<span style="font-size:18px\;">Be a part of the 2026&#39\;s Summer Splash Business Expo<br />\n*Public Invited<br />\n*Free Ample parking</span></span></span></span><br />\n&nbsp\;
LOCATION:The Innisbrook Resort & Golf Club\, Edinburgh Hall 36750 U.S. Highway 19 North Palm Harbor
UID:e.3466.2665
SEQUENCE:3
DTSTAMP:20260420T185345Z
URL:https://www.tarponspringschamber.org/events/details/summer-splash-2026-2665
END:VEVENT

END:VCALENDAR
